BEGIN:VCALENDAR
VERSION:2.0
PRODID:GlueUp
CALSCALE:GREGORIAN
BEGIN:VTIMEZONE
TZID:UTC
BEGIN:STANDARD
DTSTART:19700101T000000
TZOFFSETFROM:+0000
TZOFFSETTO:+0000
TZNAME:UTC
END:STANDARD
END:VTIMEZONE
BEGIN:VEVENT
TZ:+00
ORGANIZER;CN=Ada Chen:MAILTO:admin@maycham.com
UID:40571-1777020934@https://maychamshanghai.glueup.cn
DTSTAMP:20260424T085534Z
DTSTART:20230526T020000Z
DTEND:20230609T070000Z
SUMMARY:团购报名 | 爱文亿通票（报名开放时间 5.26 - 6.9）
DESCRIPTION:团购报名 | 爱文亿通票（报名开放时间 5.26 - 6.9） by MayCham China  in Shanghai\n\nMay 26, 2023 to Jun 9, 2023(GMT+8)\n\nFor more information, click here: https://maychamshanghai.glueup.cn/my/events/40571
LOCATION:
BEGIN:VALARM
TRIGGER:-PT48H
REPEAT:4
DURATION:PT30M
ACTION:DISPLAY
END:VALARM
END:VEVENT
END:VCALENDAR