BEGIN:VCALENDAR
VERSION:2.0
PRODID:GlueUp
CALSCALE:GREGORIAN
BEGIN:VTIMEZONE
TZID:UTC
BEGIN:STANDARD
DTSTART:19700101T000000
TZOFFSETFROM:+0000
TZOFFSETTO:+0000
TZNAME:UTC
END:STANDARD
END:VTIMEZONE
BEGIN:VEVENT
TZ:+00
ORGANIZER;CN=Ada Chen:MAILTO:admin@maycham.com
UID:24052-1776681326@https://maychamshanghai.glueup.cn
DTSTAMP:20260420T103526Z
DTSTART:20191019T053000Z
DTEND:20191019T083000Z
SUMMARY:中国马来西亚商会生活美学社 - 古典汉服体验沙龙
DESCRIPTION:MayCham China  in Shanghai发布活动中国马来西亚商会生活美学社 - 古典汉服体验沙龙\n\n2019年10月19日（13:30 - 16:30）(GMT+8)\n\n更多信息，访问https://maychamshanghai.glueup.cn/my/events/24052
LOCATION:云顶1号 - 中国上海黄浦区中山东二路58号外滩SOHOA座101
BEGIN:VALARM
TRIGGER:-PT48H
REPEAT:4
DURATION:PT30M
ACTION:DISPLAY
END:VALARM
END:VEVENT
END:VCALENDAR