BEGIN:VCALENDAR
VERSION:2.0
PRODID:GlueUp
CALSCALE:GREGORIAN
BEGIN:VTIMEZONE
TZID:UTC
BEGIN:STANDARD
DTSTART:19700101T000000
TZOFFSETFROM:+0000
TZOFFSETTO:+0000
TZNAME:UTC
END:STANDARD
END:VTIMEZONE
BEGIN:VEVENT
TZ:+00
ORGANIZER;CN=Ada Chen:MAILTO:admin@maycham.com
UID:32499-1776635796@https://maychamshanghai.glueup.cn
DTSTAMP:20260419T215636Z
DTSTART:20210630T035000Z
DTEND:20210630T100000Z
SUMMARY:Opportunities in Lingang Special Area Under the RCEP（Members Only）
DESCRIPTION:Opportunities in Lingang Special Area Under the RCEP（Members Only） by MayCham China  in Shanghai\n\nJun 30, 2021 (11:50 - 18:00)(GMT+8)\n\nFor more information, click here: https://maychamshanghai.glueup.cn/my/events/32499
LOCATION:Shanghai Lin-gang Special Area Economic Development Co., Ltd. - 12/F - A4 Building - 158 Zishan Road Shanghai - China
BEGIN:VALARM
TRIGGER:-PT48H
REPEAT:4
DURATION:PT30M
ACTION:DISPLAY
END:VALARM
END:VEVENT
END:VCALENDAR