BEGIN:VCALENDAR
VERSION:2.0
PRODID:GlueUp
CALSCALE:GREGORIAN
BEGIN:VTIMEZONE
TZID:UTC
BEGIN:STANDARD
DTSTART:19700101T000000
TZOFFSETFROM:+0000
TZOFFSETTO:+0000
TZNAME:UTC
END:STANDARD
END:VTIMEZONE
BEGIN:VEVENT
TZ:+00
ORGANIZER;CN=Ada Chen:MAILTO:admin@maycham.com
UID:29963-1776977247@https://maychamshanghai.glueup.cn
DTSTAMP:20260423T204727Z
DTSTART:20210109T110000Z
DTEND:20210109T150000Z
SUMMARY:New Year Pub Crawl
DESCRIPTION:New Year Pub Crawl by MayCham China  in Shanghai\n\nJan 9, 2021 (19:00 - 23:00)(GMT+8)\n\nFor more information, click here: https://maychamshanghai.glueup.cn/my/events/29963
LOCATION:Lucky Mart /大吉便利店 - 静安区富民路185号 上海 - China
BEGIN:VALARM
TRIGGER:-PT48H
REPEAT:4
DURATION:PT30M
ACTION:DISPLAY
END:VALARM
END:VEVENT
END:VCALENDAR