BEGIN:VCALENDAR
VERSION:2.0
PRODID:GlueUp
CALSCALE:GREGORIAN
BEGIN:VTIMEZONE
TZID:UTC
BEGIN:STANDARD
DTSTART:19700101T000000
TZOFFSETFROM:+0000
TZOFFSETTO:+0000
TZNAME:UTC
END:STANDARD
END:VTIMEZONE
BEGIN:VEVENT
TZ:+00
ORGANIZER;CN=Ada Chen:MAILTO:admin@maycham.com
UID:21823-1777036083@https://maychamshanghai.glueup.cn
DTSTAMP:20260424T130803Z
DTSTART:20190907T083000Z
DTEND:20190907T140000Z
SUMMARY:Merdeka & Malaysia Day Gala Dinner
DESCRIPTION:Merdeka & Malaysia Day Gala Dinner by MayCham China  in Shanghai\n\nSep 7, 2019 (16:30 - 22:00)(GMT+8)\n\nFor more information, click here: https://maychamshanghai.glueup.cn/my/events/21823
LOCATION:Pudong Shangri-La Hotel - No.33 Fucheng Road - Pudong New District - Shanghai Shanghai - China
BEGIN:VALARM
TRIGGER:-PT48H
REPEAT:4
DURATION:PT30M
ACTION:DISPLAY
END:VALARM
END:VEVENT
END:VCALENDAR