BEGIN:VCALENDAR
VERSION:2.0
PRODID:GlueUp
CALSCALE:GREGORIAN
BEGIN:VTIMEZONE
TZID:UTC
BEGIN:STANDARD
DTSTART:19700101T000000
TZOFFSETFROM:+0000
TZOFFSETTO:+0000
TZNAME:UTC
END:STANDARD
END:VTIMEZONE
BEGIN:VEVENT
TZ:+00
ORGANIZER;CN=Ada Chen:MAILTO:admin@maycham.com
UID:41024-1776887017@https://maychamshanghai.glueup.cn
DTSTAMP:20260422T194337Z
DTSTART:20230826T083000Z
DTEND:20230826T140000Z
SUMMARY:Merdeka Gala Dinner 2023
DESCRIPTION:Merdeka Gala Dinner 2023 by MayCham China  in Shanghai\n\nAug 26, 2023 (16:30 - 22:00)(GMT+8)\n\nFor more information, click here: https://maychamshanghai.glueup.cn/my/events/41024
LOCATION:Grand Shanghai Ballroom, 3F @ Shanghai Pudong Kerry Hotel - No.1388 - Huamu Road - Pudong New District Shanghai - China
BEGIN:VALARM
TRIGGER:-PT48H
REPEAT:4
DURATION:PT30M
ACTION:DISPLAY
END:VALARM
END:VEVENT
END:VCALENDAR