BEGIN:VCALENDAR
VERSION:2.0
PRODID:GlueUp
CALSCALE:GREGORIAN
BEGIN:VTIMEZONE
TZID:UTC
BEGIN:STANDARD
DTSTART:19700101T000000
TZOFFSETFROM:+0000
TZOFFSETTO:+0000
TZNAME:UTC
END:STANDARD
END:VTIMEZONE
BEGIN:VEVENT
TZ:+00
ORGANIZER;CN=Ada Chen:MAILTO:admin@maycham.com
UID:38498-1776891281@https://maychamshanghai.glueup.cn
DTSTAMP:20260422T205441Z
DTSTART:20221118T050000Z
DTEND:20221118T123000Z
SUMMARY:MALAYSIA-CHINA BUSINESS FORUM & APPRECIATION DINNER
DESCRIPTION:MALAYSIA-CHINA BUSINESS FORUM & APPRECIATION DINNER by MayCham China  in Shanghai\n\nNov 18, 2022 (13:00 - 20:30)(GMT+8)\n\nFor more information, click here: https://maychamshanghai.glueup.cn/my/events/38498
LOCATION:Pudong Ballroom 5-7, Level 3 @ Shanghai Pudong Kerry Hotel - No.1388 - Huamu Road - Pudong New District Shanghai - China
BEGIN:VALARM
TRIGGER:-PT48H
REPEAT:4
DURATION:PT30M
ACTION:DISPLAY
END:VALARM
END:VEVENT
END:VCALENDAR