BEGIN:VCALENDAR
VERSION:2.0
PRODID:GlueUp
CALSCALE:GREGORIAN
BEGIN:VTIMEZONE
TZID:UTC
BEGIN:STANDARD
DTSTART:19700101T000000
TZOFFSETFROM:+0000
TZOFFSETTO:+0000
TZNAME:UTC
END:STANDARD
END:VTIMEZONE
BEGIN:VEVENT
TZ:+00
ORGANIZER;CN=Ada Chen:MAILTO:admin@maycham.com
UID:42201-1776862029@https://maychamshanghai.glueup.cn
DTSTAMP:20260422T124709Z
DTSTART:20231114T100000Z
DTEND:20231114T140000Z
SUMMARY:MAJLIS RAMAH MESRA YAB TIMBALAN PERDANA MENTERI BERSAMA RAKYAT MALAYSIA
DESCRIPTION:MAJLIS RAMAH MESRA YAB TIMBALAN PERDANA MENTERI BERSAMA RAKYAT MALAYSIA by MayCham China  in Shanghai\n\nNov 14, 2023 (18:00 - 22:00)(GMT+8)\n\nFor more information, click here: https://maychamshanghai.glueup.cn/my/events/42201
LOCATION:Pudong Shangri-La Hotel - China Hall I & II，Grand Tower，Level 3 - No.33 Fucheng Road - Pudong New District - Shanghai Shanghai - China
BEGIN:VALARM
TRIGGER:-PT48H
REPEAT:4
DURATION:PT30M
ACTION:DISPLAY
END:VALARM
END:VEVENT
END:VCALENDAR